BEGIN:VCALENDAR
VERSION:2.0
PRODID:-//Tukios.com/
BEGIN:VEVENT
UID:4628f291-d7a9-4335-9502-dec347452b59@www.hamptongentry.com
DTSTAMP:20260424T232355Z
DTSTART:20260427T150000Z
DTEND:20260427T170000Z
SUMMARY:Visitation
DESCRIPTION:
URL:https://www.hamptongentry.com/obituaries/richard-gibbs
LOCATION:Hampton Gentry Funeral Home 106 Shaw St  Plainfield IN 46168
GEO:39.7037496;-86.3965284
END:VEVENT
END:VCALENDAR